BEGIN:VCALENDAR
VERSION:2.0
PRODID:-//The Wilson Bruce Evans Home Historical Society - ECPv6.15.20//NONSGML v1.0//EN
CALSCALE:GREGORIAN
METHOD:PUBLISH
X-WR-CALNAME:The Wilson Bruce Evans Home Historical Society
X-ORIGINAL-URL:https://evanshhs.org
X-WR-CALDESC:Events for The Wilson Bruce Evans Home Historical Society
REFRESH-INTERVAL;VALUE=DURATION:PT1H
X-Robots-Tag:noindex
X-PUBLISHED-TTL:PT1H
BEGIN:VTIMEZONE
TZID:UTC
BEGIN:STANDARD
TZOFFSETFROM:+0000
TZOFFSETTO:+0000
TZNAME:UTC
DTSTART:20200101T000000
END:STANDARD
END:VTIMEZONE
BEGIN:VTIMEZONE
TZID:Asia/Karachi
BEGIN:STANDARD
TZOFFSETFROM:+0500
TZOFFSETTO:+0500
TZNAME:PKT
DTSTART:20200101T000000
END:STANDARD
END:VTIMEZONE
BEGIN:VEVENT
DTSTART;TZID=UTC:20230909T110000
DTEND;TZID=UTC:20230909T130000
DTSTAMP:20260419T155322
CREATED:20230826T185858Z
LAST-MODIFIED:20230826T185925Z
UID:1908-1694257200-1694264400@evanshhs.org
SUMMARY:3rd Annual Meeting of the Wilson Bruce Evans Home Historical Society
DESCRIPTION:
URL:https://evanshhs.org/event/1908/
LOCATION:Martin Luther King\, Jr.\, Park\, East Vine St\, Oberlin\, OH\, 44074\, United States
ORGANIZER;CN="Evans Home Historical Society":MAILTO:gary.kornblith@oberlin.edu
END:VEVENT
BEGIN:VEVENT
DTSTART;TZID=UTC:20220917T110000
DTEND;TZID=UTC:20220917T140000
DTSTAMP:20260419T155322
CREATED:20220801T205755Z
LAST-MODIFIED:20221025T174717Z
UID:1276-1663412400-1663423200@evanshhs.org
SUMMARY:Evans Home Historical Society Held Second Annual Meeting on Sept. 17\, 2022
DESCRIPTION:09/17/2022 @ 11 am – 1 pm\n\n\n\nThe Wilson Bruce Evans Home Historical Society held its second annual meeting in Martin Luther King\, Jr. Park in Oberlin\, Ohio (across East Vine Street from the Wilson Bruce Evans house) on Saturday\, September 17\, 2022.  Around 70 members attended and had a great time.
URL:https://evanshhs.org/event/evans-home-historical-society-to-hold-second-annual-meeting-on-sept-17-2022/
LOCATION:Martin Luther King\, Jr.\, Park\, East Vine St\, Oberlin\, OH\, 44074\, United States
END:VEVENT
BEGIN:VEVENT
DTSTART;TZID=UTC:20210918T110000
DTEND;TZID=UTC:20210918T123000
DTSTAMP:20260419T155322
CREATED:20210808T140249Z
LAST-MODIFIED:20210808T140249Z
UID:979-1631962800-1631968200@evanshhs.org
SUMMARY:Evans Home Historical Society  to hold First Annual Meeting on Sept. 18\, 2021
DESCRIPTION:The Wilson Bruce Evans Home Historical Society will hold its first annual meeting in Martin Luther King\, Jr. Park in Oberlin\, Ohio (across East Vine Street from the Wilson Bruce Evans house) on Saturday\, September 18\, 2021\, beginning at 11 am. All members and folks interested in becoming members are invited to attend.
URL:https://evanshhs.org/event/evans-home-historical-society-to-hold-first-annual-meeting-on-sept-18-2021/
LOCATION:Martin Luther King\, Jr.\, Park\, East Vine St\, Oberlin\, OH\, 44074\, United States
ORGANIZER;CN="Evans Home Historical Society":MAILTO:gary.kornblith@oberlin.edu
END:VEVENT
BEGIN:VEVENT
DTSTART;TZID=Asia/Karachi:20210313T103000
DTEND;TZID=Asia/Karachi:20210313T113000
DTSTAMP:20260419T155322
CREATED:20210311T231344Z
LAST-MODIFIED:20210312T020023Z
UID:769-1615631400-1615635000@evanshhs.org
SUMMARY:Evans Home Historical Society Trustee Meeting
DESCRIPTION:Join Zoom Meeting\nhttps://zoom.us/j/93008334094 \nMeeting ID: 930 0833 4094\nOne tap mobile\n+19292056099\,\,93008334094# US (New York)\n+13017158592\,\,93008334094# US (Washington DC) \nDial by your location\n        +1 929 205 6099 US (New York)\n        +1 301 715 8592 US (Washington DC)\n        +1 312 626 6799 US (Chicago)\n        +1 669 900 6833 US (San Jose)\n        +1 253 215 8782 US (Tacoma)\n        +1 346 248 7799 US (Houston)\nMeeting ID: 930 0833 4094\nFind your local number: https://zoom.us/u/adbLJGoMkR
URL:https://evanshhs.org/event/evans-home-historical-society-trustee-meeting/
LOCATION:OH
END:VEVENT
END:VCALENDAR